BEGIN:VCALENDAR
VERSION:2.0
PRODID:-//thebighomieprogram - ECPv6.15.13//NONSGML v1.0//EN
CALSCALE:GREGORIAN
METHOD:PUBLISH
X-WR-CALNAME:thebighomieprogram
X-ORIGINAL-URL:https://thebighomieprogram.org
X-WR-CALDESC:Events for thebighomieprogram
REFRESH-INTERVAL;VALUE=DURATION:PT1H
X-Robots-Tag:noindex
X-PUBLISHED-TTL:PT1H
BEGIN:VTIMEZONE
TZID:America/Los_Angeles
BEGIN:DAYLIGHT
TZOFFSETFROM:-0800
TZOFFSETTO:-0700
TZNAME:PDT
DTSTART:20220313T100000
END:DAYLIGHT
BEGIN:STANDARD
TZOFFSETFROM:-0700
TZOFFSETTO:-0800
TZNAME:PST
DTSTART:20221106T090000
END:STANDARD
BEGIN:DAYLIGHT
TZOFFSETFROM:-0800
TZOFFSETTO:-0700
TZNAME:PDT
DTSTART:20230312T100000
END:DAYLIGHT
BEGIN:STANDARD
TZOFFSETFROM:-0700
TZOFFSETTO:-0800
TZNAME:PST
DTSTART:20231105T090000
END:STANDARD
BEGIN:DAYLIGHT
TZOFFSETFROM:-0800
TZOFFSETTO:-0700
TZNAME:PDT
DTSTART:20240310T100000
END:DAYLIGHT
BEGIN:STANDARD
TZOFFSETFROM:-0700
TZOFFSETTO:-0800
TZNAME:PST
DTSTART:20241103T090000
END:STANDARD
END:VTIMEZONE
BEGIN:VEVENT
DTSTART;TZID=America/Los_Angeles:20231026T160000
DTEND;TZID=America/Los_Angeles:20231026T180000
DTSTAMP:20260424T091036
CREATED:20230901T212424Z
LAST-MODIFIED:20231127T173234Z
UID:8172-1698336000-1698343200@thebighomieprogram.org
SUMMARY:Weightlifting Class
DESCRIPTION:Unleash Your Inner Strength: Join our exhilarating weightlifting class designed exclusively for the youth! Elevate your fitness journey in a dynamic and supportive environment\, where passion meets perseverance. Under expert guidance\, you’ll sculpt your body\, boost confidence\, and learn life-long skills in discipline and determination. Join us in fostering a generation of empowered individuals\, lifting not just weights\, but also their aspirations!
URL:https://thebighomieprogram.org/event/weightlifting-class-4-2/
LOCATION:Weightlifting Room at Eastside Community Center\, 1721 E 56th St\, Tacoma\, Washington\, 98404\, United States
CATEGORIES:Weightlifting Room
ATTACH;FMTTYPE=image/png:https://thebighomieprogram.org/wp-content/uploads/2023/08/WEIGHLIFTING-CLASS-5-7.png
ORGANIZER;CN="Big Homie Mentor D":MAILTO:info@thebighomieprogram.org
END:VEVENT
END:VCALENDAR